BEGIN:VCALENDAR
VERSION:2.0
PRODID:-//Cranford Parish Council//Meeting Calendar//EN
CALSCALE:GREGORIAN
METHOD:PUBLISH
BEGIN:VEVENT
UID:72227-20260316@cranfordparishcouncil.gov.uk
DTSTAMP:20260421T092851Z
DTSTART;VALUE=DATE:20260316
DTEND;VALUE=DATE:20260317
SUMMARY:Council Meeting &#8211\\; 16 March 2026
DESCRIPTION:Full Council Meeting\nView details: https://cranfordparishcouncil.gov.uk/meetings/council-meeting-16-march-2026/
URL:https://cranfordparishcouncil.gov.uk/meetings/council-meeting-16-march-2026/
END:VEVENT
END:VCALENDAR
