BEGIN:VCALENDAR
VERSION:2.0
PRODID:-//Cranford Parish Council//Meeting Calendar//EN
CALSCALE:GREGORIAN
METHOD:PUBLISH
BEGIN:VEVENT
UID:70497-20190508@cranfordparishcouncil.gov.uk
DTSTAMP:20260421T094437Z
DTSTART;VALUE=DATE:20190508
DTEND;VALUE=DATE:20190509
SUMMARY:Annual Council Meeting &#8211\\; 8th May 2019
DESCRIPTION:Annual Meeting\nView details: https://cranfordparishcouncil.gov.uk/meetings/annual-council-meeting-8th-may-2019/
URL:https://cranfordparishcouncil.gov.uk/meetings/annual-council-meeting-8th-may-2019/
END:VEVENT
END:VCALENDAR
